BEGIN:VCALENDAR
VERSION:2.0
PRODID:ASSOCIATIVISMO - Bombeiros Voluntários Sobral de Monte Agraço
X-WR-CALNAME:ASSOCIATIVISMO - Bombeiros Voluntários Sobral de Monte Agraç
 o
X-WR-TIMEZONE:Europe/Lisbon
X-PUBLISHED-TTL:P1W
BEGIN:VTIMEZONE
TZID:Europe/Lisbon
X-LIC-LOCATION:Europe/Lisbon
END:VTIMEZONE
BEGIN:VEVENT
UID:69e869bf25143
DTSTART;VALUE=DATE:20250501
SEQUENCE:0
TRANSP:OPAQUE
DTEND;VALUE=DATE:20250502
SUMMARY:ASSOCIATIVISMO - Bombeiros Voluntários Sobral de Monte Agraço
CLASS:PUBLIC
DESCRIPTION:Associativismo - Bombeiros Voluntários de Sobral de Monte Agra
 ço5º Grandiosa Largada de Toiros 
X-MICROSOFT-CDO-ALLDAYEVENT:TRUE
DTSTAMP:20260422T062503Z
END:VEVENT
END:VCALENDAR