BEGIN:VCALENDAR
VERSION:2.0
PRODID:XXIV Passeio dos Moinhos
X-WR-CALNAME:XXIV Passeio dos Moinhos
X-WR-TIMEZONE:Europe/Lisbon
X-PUBLISHED-TTL:P1W
BEGIN:VTIMEZONE
TZID:Europe/Lisbon
X-LIC-LOCATION:Europe/Lisbon
END:VTIMEZONE
BEGIN:VEVENT
UID:69e8939a41100
DTSTART;VALUE=DATE:20160403
SEQUENCE:0
TRANSP:OPAQUE
DTEND;VALUE=DATE:20160404
SUMMARY:XXIV Passeio dos Moinhos
CLASS:PUBLIC
DESCRIPTION:\"Ande\, pela sua saúde!\"
X-MICROSOFT-CDO-ALLDAYEVENT:TRUE
DTSTAMP:20260422T092338Z
END:VEVENT
END:VCALENDAR