BEGIN:VCALENDAR
VERSION:2.0
PRODID:Festa da Criança 
X-WR-CALNAME:Festa da Criança 
X-WR-TIMEZONE:Europe/Lisbon
X-PUBLISHED-TTL:P1W
BEGIN:VTIMEZONE
TZID:Europe/Lisbon
X-LIC-LOCATION:Europe/Lisbon
END:VTIMEZONE
BEGIN:VEVENT
UID:69e869be26131
DTSTART;VALUE=DATE:20230603
SEQUENCE:0
TRANSP:OPAQUE
DTEND;VALUE=DATE:20230604
SUMMARY:Festa da Criança 
CLASS:PUBLIC
DESCRIPTION:Vamos voltar a organizar a Festa da Criança\, em conjunto com 
 a Junta de Freguesia de Santo Quintino\,&nbsp\; para comemorar o Dia Mundi
 al da Criança.&nbsp\;A animação não irá faltar&nbsp\; na Discoteca 10
 0horas\, no dia 03 de Junho de 2023.Apareçam para uma tarde cheia de ativ
 idades e muita diversão.
X-MICROSOFT-CDO-ALLDAYEVENT:TRUE
DTSTAMP:20260422T062502Z
END:VEVENT
END:VCALENDAR