BEGIN:VCALENDAR
VERSION:2.0
PRODID:Aniversário Tertúlia Amigos Sobralenses 
X-WR-CALNAME:Aniversário Tertúlia Amigos Sobralenses 
X-WR-TIMEZONE:Europe/Lisbon
X-PUBLISHED-TTL:P1W
BEGIN:VTIMEZONE
TZID:Europe/Lisbon
X-LIC-LOCATION:Europe/Lisbon
END:VTIMEZONE
BEGIN:VEVENT
UID:69e869ab7c1af
DTSTART;VALUE=DATE:20250404
SEQUENCE:0
TRANSP:OPAQUE
DTEND;VALUE=DATE:20250405
SUMMARY:Aniversário Tertúlia Amigos Sobralenses 
CLASS:PUBLIC
DESCRIPTION:Associativismo&nbsp\;Aniversário Tertúlia Amigos Sobralenses&
 nbsp\;
X-MICROSOFT-CDO-ALLDAYEVENT:TRUE
DTSTAMP:20260422T062443Z
END:VEVENT
END:VCALENDAR