BEGIN:VCALENDAR
VERSION:2.0
PRODID:Festa da Criança 
X-WR-CALNAME:Festa da Criança 
X-WR-TIMEZONE:Europe/Lisbon
X-PUBLISHED-TTL:P1W
BEGIN:VTIMEZONE
TZID:Europe/Lisbon
X-LIC-LOCATION:Europe/Lisbon
END:VTIMEZONE
BEGIN:VEVENT
UID:69e869bf3bf0d
DTSTART;VALUE=DATE:20220604
SEQUENCE:0
TRANSP:OPAQUE
DTEND;VALUE=DATE:20220605
SUMMARY:Festa da Criança 
CLASS:PUBLIC
DESCRIPTION:A Junta de Freguesia de Sobral de Monte Agraço\, em conjunto c
 om a Junta de Freguesia de Santo Quintino\, irá realizar uma Festa para t
 odas as crianças no próximo dia 4 de Junho de 2022\, na discoteca 100hor
 as!!!Vamos proporcionar um dia diferente a todas as crianças.....
X-MICROSOFT-CDO-ALLDAYEVENT:TRUE
DTSTAMP:20260422T062503Z
END:VEVENT
END:VCALENDAR