BEGIN:VCALENDAR
VERSION:2.0
PRODID:Rastreio à População - 2018
X-WR-CALNAME:Rastreio à População - 2018
X-WR-TIMEZONE:Europe/Lisbon
X-PUBLISHED-TTL:P1W
BEGIN:VTIMEZONE
TZID:Europe/Lisbon
X-LIC-LOCATION:Europe/Lisbon
END:VTIMEZONE
BEGIN:VEVENT
UID:69e869ac88c7f
DTSTART;VALUE=DATE:20180506
SEQUENCE:0
TRANSP:OPAQUE
DTEND;VALUE=DATE:20180507
SUMMARY:Rastreio à População - 2018
CLASS:PUBLIC
DESCRIPTION:Rastreio à População - 201806 de maio de 2018 – Bispeira e
  Patameira13 de maio de 2018 – Gozundeira e Cabêda27 de maio de 2018 
 – Sobral de Monte AgraçoGaleria de fotos
X-MICROSOFT-CDO-ALLDAYEVENT:TRUE
DTSTAMP:20260422T062444Z
END:VEVENT
END:VCALENDAR