BEGIN:VCALENDAR
VERSION:2.0
PRODID:Noites nas Praças - 2018
X-WR-CALNAME:Noites nas Praças - 2018
X-WR-TIMEZONE:Europe/Lisbon
X-PUBLISHED-TTL:P1W
BEGIN:VTIMEZONE
TZID:Europe/Lisbon
X-LIC-LOCATION:Europe/Lisbon
END:VTIMEZONE
BEGIN:VEVENT
UID:69e8686eaab29
DTSTART;VALUE=DATE:20180706
SEQUENCE:0
TRANSP:OPAQUE
DTEND;VALUE=DATE:20180707
SUMMARY:Noites nas Praças - 2018
CLASS:PUBLIC
DESCRIPTION:Noites nas Praças - 20186\, 13 e 20 de julho de 2018Galeria de
  fotos
X-MICROSOFT-CDO-ALLDAYEVENT:TRUE
DTSTAMP:20260422T061926Z
END:VEVENT
END:VCALENDAR