BEGIN:VCALENDAR
VERSION:2.0
PRODID:Sábados com Diversão
X-WR-CALNAME:Sábados com Diversão
X-WR-TIMEZONE:Europe/Lisbon
X-PUBLISHED-TTL:P1W
BEGIN:VTIMEZONE
TZID:Europe/Lisbon
X-LIC-LOCATION:Europe/Lisbon
END:VTIMEZONE
BEGIN:VEVENT
UID:69e869bda32a8
DTSTART;VALUE=DATE:20240706
SEQUENCE:0
TRANSP:OPAQUE
DTEND;VALUE=DATE:20240707
SUMMARY:Sábados com Diversão
CLASS:PUBLIC
DESCRIPTION:Sábados de Julho vão ser cheios de diversão.Este ano com alg
 umas surpresas!!Nos dias 6\,13 e 20 de Julho\, entre as 9h30 e as 12h30 no
 s locais assinalados a diversão estará garantida!!&nbsp\;
X-MICROSOFT-CDO-ALLDAYEVENT:TRUE
DTSTAMP:20260422T062501Z
END:VEVENT
END:VCALENDAR