BEGIN:VCALENDAR
VERSION:2.0
PRODID:SUNSET MOINHO DO SOBRAL
X-WR-CALNAME:SUNSET MOINHO DO SOBRAL
X-WR-TIMEZONE:Europe/Lisbon
X-PUBLISHED-TTL:P1W
BEGIN:VTIMEZONE
TZID:Europe/Lisbon
X-LIC-LOCATION:Europe/Lisbon
END:VTIMEZONE
BEGIN:VEVENT
UID:69e869dcd1301
DTSTART;VALUE=DATE:20240707
SEQUENCE:0
TRANSP:OPAQUE
DTEND;VALUE=DATE:20240708
SUMMARY:SUNSET MOINHO DO SOBRAL
CLASS:PUBLIC
DESCRIPTION:Sunset no Moinho do Sobral&nbsp\;Voltamos ao local com o Pôr d
 o Sol mais bonito da nossa Freguesia.&nbsp\;Junte-se a nós para uma tarde
  de boa música e boa disposição.&nbsp\;Disponibilizamos um transporte s
 urpresa para o local.&nbsp\;
X-MICROSOFT-CDO-ALLDAYEVENT:TRUE
DTSTAMP:20260422T062532Z
END:VEVENT
END:VCALENDAR