BEGIN:VCALENDAR
VERSION:2.0
PRODID:Passeio dos Moinhos - 2018
X-WR-CALNAME:Passeio dos Moinhos - 2018
X-WR-TIMEZONE:Europe/Lisbon
X-PUBLISHED-TTL:P1W
BEGIN:VTIMEZONE
TZID:Europe/Lisbon
X-LIC-LOCATION:Europe/Lisbon
END:VTIMEZONE
BEGIN:VEVENT
UID:69e8695057ba5
DTSTART;VALUE=DATE:20180408
SEQUENCE:0
TRANSP:OPAQUE
DTEND;VALUE=DATE:20180409
SUMMARY:Passeio dos Moinhos - 2018
CLASS:PUBLIC
DESCRIPTION:Galeria de fotos
X-MICROSOFT-CDO-ALLDAYEVENT:TRUE
DTSTAMP:20260422T062312Z
END:VEVENT
END:VCALENDAR