BEGIN:VCALENDAR
VERSION:2.0
PRODID:Campanha Doação de Sangue
X-WR-CALNAME:Campanha Doação de Sangue
X-WR-TIMEZONE:Europe/Lisbon
X-PUBLISHED-TTL:P1W
BEGIN:VTIMEZONE
TZID:Europe/Lisbon
X-LIC-LOCATION:Europe/Lisbon
END:VTIMEZONE
BEGIN:VEVENT
UID:69e869bf71fe4
DTSTART;VALUE=DATE:20230408
SEQUENCE:0
TRANSP:OPAQUE
DTEND;VALUE=DATE:20230409
SUMMARY:Campanha Doação de Sangue
CLASS:PUBLIC
DESCRIPTION:A Junta de Freguesia\, em parceria com o Instituto Português d
 o Sangue e da Transplantação\, aliam-se a mais uma campanha de doação 
 de sangue.&nbsp\;Qualquer um de nós ou dos nossos pode ser o próximo a p
 recisar de sangue!Dia 8 de Abril de 2023\, temos encontro marcado\, a part
 ir das 9h no Pavilhão António Lopes Bogalho.&nbsp\;Para esclarecimento d
 e qualquer dúvida pode contactar-nos.&nbsp\;Contamos consigo!!!!&nbsp\;
X-MICROSOFT-CDO-ALLDAYEVENT:TRUE
DTSTAMP:20260422T062503Z
END:VEVENT
END:VCALENDAR