BEGIN:VCALENDAR
VERSION:2.0
PRODID:Concurso \"Freguesia Colorida\"  
X-WR-CALNAME:Concurso \"Freguesia Colorida\"  
X-WR-TIMEZONE:Europe/Lisbon
X-PUBLISHED-TTL:P1W
BEGIN:VTIMEZONE
TZID:Europe/Lisbon
X-LIC-LOCATION:Europe/Lisbon
END:VTIMEZONE
BEGIN:VEVENT
UID:69e869dd0d089
DTSTART;VALUE=DATE:20230908
SEQUENCE:0
TRANSP:OPAQUE
DTEND;VALUE=DATE:20230909
SUMMARY:Concurso \"Freguesia Colorida\"  
CLASS:PUBLIC
DESCRIPTION:No âmbito das Festas e Feira de Verão 2023\, a Freguesia de S
 obral de Monte Agraço desafia toda a população a participar no Concurso
  \"Freguesia Colorida\".&nbsp\;&nbsp\;&nbsp\;&nbsp\;A&nbsp\; Freguesia de 
 Sobral de Monte Agraço\, pretende com este concurso dar cor e alegria às
  ruas da vila\, incentivando à criatividade e originalidade dos sobralens
 es\, com a decoração das&nbsp\; suas janelas e varandas\, este ano decid
 imos envolver também os empresários e comerciantes do nosso comércio lo
 cal para que possam dinamizar o comércio com a decoração das montras do
 s seus estabelecimentos.&nbsp\;&nbsp\;&nbsp\;&nbsp\;&nbsp\;Esta é uma opo
 rtunidade para dar \"asas à sua imaginação\" contribuindo para embeleza
 r as nossas ruas nestes dias de festa!&nbsp\;&nbsp\;&nbsp\;&nbsp\;Particip
 e! Contamos consigo!Para mais informações consulte as normas em anexo.ht
 tps://www.jfsobral.pt/ficheiros/fic115_1691072426.PDFhttps://www.jfsobral.
 pt/ficheiros/fic113_1691071573.pdf
X-MICROSOFT-CDO-ALLDAYEVENT:TRUE
DTSTAMP:20260422T062533Z
END:VEVENT
END:VCALENDAR