BEGIN:VCALENDAR
VERSION:2.0
PRODID:Concurso \"Varandas e Janelas Coloridas\"
X-WR-CALNAME:Concurso \"Varandas e Janelas Coloridas\"
X-WR-TIMEZONE:Europe/Lisbon
X-PUBLISHED-TTL:P1W
BEGIN:VTIMEZONE
TZID:Europe/Lisbon
X-LIC-LOCATION:Europe/Lisbon
END:VTIMEZONE
BEGIN:VEVENT
UID:69e86a3074bd3
DTSTART;VALUE=DATE:20220909
SEQUENCE:0
TRANSP:OPAQUE
DTEND;VALUE=DATE:20220910
SUMMARY:Concurso \"Varandas e Janelas Coloridas\"
CLASS:PUBLIC
DESCRIPTION:&nbsp\;&nbsp\;&nbsp\;&nbsp\;No âmbito das Festas e Feira de Ve
 rão 2022\, a Junta de Freguesia de Sobral de Monte Agraço desafia toda a
  população a participar no Concurso VARANDAS E JANELAS COLORIDAS.&nbsp\;
 &nbsp\;&nbsp\;&nbsp\;A Junta de Freguesia de Sobral de Monte Agraço prete
 nde com este concurso dar cor e alegria às ruas da vila\, incentivando à
  criatividade e originalidade dos sobralenses.&nbsp\;&nbsp\;&nbsp\;&nbsp\;
 Esta é uma oportunidade para dar \"asas à sua imaginação\" contribuind
 o para embelezar as nossas ruas nestes dias de festa!&nbsp\;&nbsp\;&nbsp\;
 &nbsp\;Participe! Contamos consigo!Para mais informações consulte as nor
 mas em anexo.
X-MICROSOFT-CDO-ALLDAYEVENT:TRUE
DTSTAMP:20260422T062656Z
END:VEVENT
END:VCALENDAR