BEGIN:VCALENDAR
VERSION:2.0
PRODID:Semana da Saúde 
X-WR-CALNAME:Semana da Saúde 
X-WR-TIMEZONE:Europe/Lisbon
X-PUBLISHED-TTL:P1W
BEGIN:VTIMEZONE
TZID:Europe/Lisbon
X-LIC-LOCATION:Europe/Lisbon
END:VTIMEZONE
BEGIN:VEVENT
UID:69e8688855745
DTSTART;VALUE=DATE:20241110
SEQUENCE:0
TRANSP:OPAQUE
DTEND;VALUE=DATE:20241111
SUMMARY:Semana da Saúde 
CLASS:PUBLIC
DESCRIPTION:10 a 16 de Novembro de 2024\, semana escolhida para promover a 
 saúde!!!Consulte o programa\, e no dia e horário indicado pode dirigir-s
 e ao local ou estabelecimento parceiro e usufruir gratuitamente do serviç
 o!
X-MICROSOFT-CDO-ALLDAYEVENT:TRUE
DTSTAMP:20260422T061952Z
END:VEVENT
END:VCALENDAR