BEGIN:VCALENDAR
VERSION:2.0
PRODID:Semana da Saúde 
X-WR-CALNAME:Semana da Saúde 
X-WR-TIMEZONE:Europe/Lisbon
X-PUBLISHED-TTL:P1W
BEGIN:VTIMEZONE
TZID:Europe/Lisbon
X-LIC-LOCATION:Europe/Lisbon
END:VTIMEZONE
BEGIN:VEVENT
UID:69e86a14d5983
DTSTART;VALUE=DATE:20231112
SEQUENCE:0
TRANSP:OPAQUE
DTEND;VALUE=DATE:20231113
SUMMARY:Semana da Saúde 
CLASS:PUBLIC
DESCRIPTION:Semana da Saúde&nbsp\;12 a 18 de Novembro\, Semana escolhida p
 ara promover a saúde.Consulte o programa em anexo e no dia e horário ind
 icado dirija-se ao local ou estabelecimento parceiro para usufruir gratuit
 amente do serviço!
X-MICROSOFT-CDO-ALLDAYEVENT:TRUE
DTSTAMP:20260422T062628Z
END:VEVENT
END:VCALENDAR