BEGIN:VCALENDAR
VERSION:2.0
PRODID:Freguesia Sob Rodas 
X-WR-CALNAME:Freguesia Sob Rodas 
X-WR-TIMEZONE:Europe/Lisbon
X-PUBLISHED-TTL:P1W
BEGIN:VTIMEZONE
TZID:Europe/Lisbon
X-LIC-LOCATION:Europe/Lisbon
END:VTIMEZONE
BEGIN:VEVENT
UID:69e86a153a142
DTSTART;VALUE=DATE:20230513
SEQUENCE:0
TRANSP:OPAQUE
DTEND;VALUE=DATE:20230514
SUMMARY:Freguesia Sob Rodas 
CLASS:PUBLIC
DESCRIPTION:Este ano voltamos a repetir esta grande iniciativa\, de levar a
  Festa às Aldeias da nossa Freguesia!Contamos com a presença e companhia
  de todos para encher as nossas aldeias de alegria!&nbsp\;
X-MICROSOFT-CDO-ALLDAYEVENT:TRUE
DTSTAMP:20260422T062629Z
END:VEVENT
END:VCALENDAR