BEGIN:VCALENDAR
VERSION:2.0
PRODID:Semana da Saúde 
X-WR-CALNAME:Semana da Saúde 
X-WR-TIMEZONE:Europe/Lisbon
X-PUBLISHED-TTL:P1W
BEGIN:VTIMEZONE
TZID:Europe/Lisbon
X-LIC-LOCATION:Europe/Lisbon
END:VTIMEZONE
BEGIN:VEVENT
UID:69e86a30dff30
DTSTART;VALUE=DATE:20221113
SEQUENCE:0
TRANSP:OPAQUE
DTEND;VALUE=DATE:20221114
SUMMARY:Semana da Saúde 
CLASS:PUBLIC
DESCRIPTION:De 13 a 19 de Novembro de 2022\, a Junta de Freguesia de sobral
  de Monte Agraço pretende promover  Saúde!!Através de algumas parceria
 s com diversos estabelecimentos\, vamos ter uma semana com vários serviç
 os disponíveis para a população do concelho de Sobral de Monte Agraço 
 tais como:Doação de Sangue e Medula Óssea Exercício Físico Alimenta
 ção Saudável Massagem Terapêutica Exames Visuais Rastreios Auditivo
 s Avaliação de Sinais Vitais e Glicémia Aconselhamento FarmacêuticoC
 onsulte  o programa em anexo e no dia e horário indicado no mesmo\, pode
  dirigir-se ao local ou estabelecimento parceiro e usufruir GRATUITAMENTE 
 do serviço disponibilizado.
X-MICROSOFT-CDO-ALLDAYEVENT:TRUE
DTSTAMP:20260422T062656Z
END:VEVENT
END:VCALENDAR