BEGIN:VCALENDAR
VERSION:2.0
PRODID:Freguesia Sob Rodas 
X-WR-CALNAME:Freguesia Sob Rodas 
X-WR-TIMEZONE:Europe/Lisbon
X-PUBLISHED-TTL:P1W
BEGIN:VTIMEZONE
TZID:Europe/Lisbon
X-LIC-LOCATION:Europe/Lisbon
END:VTIMEZONE
BEGIN:VEVENT
UID:69e86887da783
DTSTART;VALUE=DATE:20220514
SEQUENCE:0
TRANSP:OPAQUE
DTEND;VALUE=DATE:20220515
SUMMARY:Freguesia Sob Rodas 
CLASS:PUBLIC
DESCRIPTION:Freguesia Sob Rodas&nbsp\;
X-MICROSOFT-CDO-ALLDAYEVENT:TRUE
DTSTAMP:20260422T061951Z
END:VEVENT
END:VCALENDAR