BEGIN:VCALENDAR
VERSION:2.0
PRODID:Sábados com Diversão
X-WR-CALNAME:Sábados com Diversão
X-WR-TIMEZONE:Europe/Lisbon
X-PUBLISHED-TTL:P1W
BEGIN:VTIMEZONE
TZID:Europe/Lisbon
X-LIC-LOCATION:Europe/Lisbon
END:VTIMEZONE
BEGIN:VEVENT
UID:69e86a149e456
DTSTART;VALUE=DATE:20230715
SEQUENCE:0
TRANSP:OPAQUE
DTEND;VALUE=DATE:20230716
SUMMARY:Sábados com Diversão
CLASS:PUBLIC
DESCRIPTION:Este ano voltam as manhãs de diversão para os mais novos.....
 venham passar uma manhã divertida\, entre as 9h e as 13h\, nas data e loc
 ais mencionados! Insufláveis de utilização gratuita.&nbsp\;
X-MICROSOFT-CDO-ALLDAYEVENT:TRUE
DTSTAMP:20260422T062628Z
END:VEVENT
END:VCALENDAR