BEGIN:VCALENDAR
VERSION:2.0
PRODID:Passeio Sénior 
X-WR-CALNAME:Passeio Sénior 
X-WR-TIMEZONE:Europe/Lisbon
X-PUBLISHED-TTL:P1W
BEGIN:VTIMEZONE
TZID:Europe/Lisbon
X-LIC-LOCATION:Europe/Lisbon
END:VTIMEZONE
BEGIN:VEVENT
UID:69e883d4f1f71
DTSTART;VALUE=DATE:20260516
SEQUENCE:0
TRANSP:OPAQUE
DTEND;VALUE=DATE:20260517
SUMMARY:Passeio Sénior 
CLASS:PUBLIC
DESCRIPTION:Passeio Sénior&nbsp\;Visita à Capela Real e Palácio das Pass
 agens&nbsp\;Almoço convívio com animação&nbsp\;
X-MICROSOFT-CDO-ALLDAYEVENT:TRUE
DTSTAMP:20260422T081620Z
END:VEVENT
END:VCALENDAR