BEGIN:VCALENDAR
VERSION:2.0
PRODID:Passeio Sénior
X-WR-CALNAME:Passeio Sénior
X-WR-TIMEZONE:Europe/Lisbon
X-PUBLISHED-TTL:P1W
BEGIN:VTIMEZONE
TZID:Europe/Lisbon
X-LIC-LOCATION:Europe/Lisbon
END:VTIMEZONE
BEGIN:VEVENT
UID:69e86a302412d
DTSTART;VALUE=DATE:20250517
SEQUENCE:0
TRANSP:OPAQUE
DTEND;VALUE=DATE:20250518
SUMMARY:Passeio Sénior
CLASS:PUBLIC
DESCRIPTION:Passeio Sénior - Visita ao Museu dos Coches e Almoço convívi
 o&nbsp\;
X-MICROSOFT-CDO-ALLDAYEVENT:TRUE
DTSTAMP:20260422T062656Z
END:VEVENT
END:VCALENDAR