BEGIN:VCALENDAR
VERSION:2.0
PRODID:SOBRAL NO NATAL 
X-WR-CALNAME:SOBRAL NO NATAL 
X-WR-TIMEZONE:Europe/Lisbon
X-PUBLISHED-TTL:P1W
BEGIN:VTIMEZONE
TZID:Europe/Lisbon
X-LIC-LOCATION:Europe/Lisbon
END:VTIMEZONE
BEGIN:VEVENT
UID:69e86a31128f6
DTSTART;VALUE=DATE:20221217
SEQUENCE:0
TRANSP:OPAQUE
DTEND;VALUE=DATE:20221218
SUMMARY:SOBRAL NO NATAL 
CLASS:PUBLIC
DESCRIPTION:Sobral No Natal&nbsp\;Dia 17 de Dezembro iremos acompanhar o Pa
 i Natal pelas ruas da nossa vila e também pela nossa freguesia......levam
 os muita música e animação com a \"Charanga das Fresquinhas\" e a magia
  de Natal.O percurso será o seguinte:10h - Vila Sobral&nbsp\;14h30 - Via 
 Galega (junto à associação)15h15 - Barqueira (junto ao parque infantil)
 15h55 - Cabêda (junto à associação)16h20 - Gozundeira (junto à capela
 )16h35 - Bispeira (junto à associação)16h45 - Patameira (junto à antig
 a escola primária)Apareça e partilhe connosco a Magia do Sobral No Natal
 &nbsp\;
X-MICROSOFT-CDO-ALLDAYEVENT:TRUE
DTSTAMP:20260422T062657Z
END:VEVENT
END:VCALENDAR