BEGIN:VCALENDAR
VERSION:2.0
PRODID:18 de Abril de 2015 - Grande Prémio de Atletismo “Troféu José M
 anuel Gil Alves”
X-WR-CALNAME:18 de Abril de 2015 - Grande Prémio de Atletismo “Troféu J
 osé Manuel Gil Alves”
X-WR-TIMEZONE:Europe/Lisbon
X-PUBLISHED-TTL:P1W
BEGIN:VTIMEZONE
TZID:Europe/Lisbon
X-LIC-LOCATION:Europe/Lisbon
END:VTIMEZONE
BEGIN:VEVENT
UID:69e868505f3ba
DTSTART;VALUE=DATE:20150418
SEQUENCE:0
TRANSP:OPAQUE
DTEND;VALUE=DATE:20150419
SUMMARY:18 de Abril de 2015 - Grande Prémio de Atletismo “Troféu José 
 Manuel Gil Alves”
CLASS:PUBLIC
DESCRIPTION:Sobral a CorrerFoi uma prova com enorme êxito\, com 120 inscri
 ções na prova juvenil e 176 na prova de honra. É claro que é uma prova
  a repetir em futuras edições.
X-MICROSOFT-CDO-ALLDAYEVENT:TRUE
DTSTAMP:20260422T061856Z
END:VEVENT
END:VCALENDAR