BEGIN:VCALENDAR
VERSION:2.0
PRODID:Passeio Sénior 
X-WR-CALNAME:Passeio Sénior 
X-WR-TIMEZONE:Europe/Lisbon
X-PUBLISHED-TTL:P1W
BEGIN:VTIMEZONE
TZID:Europe/Lisbon
X-LIC-LOCATION:Europe/Lisbon
END:VTIMEZONE
BEGIN:VEVENT
UID:69e86a313f09f
DTSTART;VALUE=DATE:20221119
SEQUENCE:0
TRANSP:OPAQUE
DTEND;VALUE=DATE:20221120
SUMMARY:Passeio Sénior 
CLASS:PUBLIC
DESCRIPTION:www.facebook.com/juntafsobralPasseio Sénior - 19 de Novembro d
 e 2022Incluí:Visita à Praia da Areia Branca\, Peniche\, Cabo Carvoeiro e
  entrada no Museu Renda de Bilros .Almoço convívio com animação nos Re
 staurante \" O Camelo\"*Inscrições abertas até dia 10 de Novembro\, par
 a residentes/recenseados na Freguesia e com mais de 60 anos&nbsp\;Venham p
 assar um dia agradável connosco!!!!*
X-MICROSOFT-CDO-ALLDAYEVENT:TRUE
DTSTAMP:20260422T062657Z
END:VEVENT
END:VCALENDAR