BEGIN:VCALENDAR
VERSION:2.0
PRODID:Sobral a correr 2018 – Troféu José Manuel Gil Alves
X-WR-CALNAME:Sobral a correr 2018 – Troféu José Manuel Gil Alves
X-WR-TIMEZONE:Europe/Lisbon
X-PUBLISHED-TTL:P1W
BEGIN:VTIMEZONE
TZID:Europe/Lisbon
X-LIC-LOCATION:Europe/Lisbon
END:VTIMEZONE
BEGIN:VEVENT
UID:69e8696a46c30
DTSTART;VALUE=DATE:20180421
SEQUENCE:0
TRANSP:OPAQUE
DTEND;VALUE=DATE:20180422
SUMMARY:Sobral a correr 2018 – Troféu José Manuel Gil Alves
CLASS:PUBLIC
DESCRIPTION:Galeria de fotos
X-MICROSOFT-CDO-ALLDAYEVENT:TRUE
DTSTAMP:20260422T062338Z
END:VEVENT
END:VCALENDAR