BEGIN:VCALENDAR
VERSION:2.0
PRODID:Wokshop Semear Valores
X-WR-CALNAME:Wokshop Semear Valores
X-WR-TIMEZONE:Europe/Lisbon
X-PUBLISHED-TTL:P1W
BEGIN:VTIMEZONE
TZID:Europe/Lisbon
X-LIC-LOCATION:Europe/Lisbon
END:VTIMEZONE
BEGIN:VEVENT
UID:69e869dd322c2
DTSTART;VALUE=DATE:20250222
SEQUENCE:0
TRANSP:OPAQUE
DTEND;VALUE=DATE:20250223
SUMMARY:Wokshop Semear Valores
CLASS:PUBLIC
DESCRIPTION:Wokshop Semear Valores
X-MICROSOFT-CDO-ALLDAYEVENT:TRUE
DTSTAMP:20260422T062533Z
END:VEVENT
END:VCALENDAR