BEGIN:VCALENDAR
VERSION:2.0
PRODID:XXIII Passeio dos Moinhos
X-WR-CALNAME:XXIII Passeio dos Moinhos
X-WR-TIMEZONE:Europe/Lisbon
X-PUBLISHED-TTL:P1W
BEGIN:VTIMEZONE
TZID:Europe/Lisbon
X-LIC-LOCATION:Europe/Lisbon
END:VTIMEZONE
BEGIN:VEVENT
UID:69e8686f66a18
DTSTART;VALUE=DATE:20150322
SEQUENCE:0
TRANSP:OPAQUE
DTEND;VALUE=DATE:20150323
SUMMARY:XXIII Passeio dos Moinhos
CLASS:PUBLIC
DESCRIPTION:Foi no passado dia 23 de Março de 2015 que se realizou o XXII 
 Passeio dos Moinhos\, promovido pela nossa Freguesia.Esta iniciativa foi u
 m enorme sucesso com a participação de 237 pessoas.
X-MICROSOFT-CDO-ALLDAYEVENT:TRUE
DTSTAMP:20260422T061927Z
END:VEVENT
END:VCALENDAR