BEGIN:VCALENDAR
VERSION:2.0
PRODID:10º Aniversário Amigos & Motores
X-WR-CALNAME:10º Aniversário Amigos & Motores
X-WR-TIMEZONE:Europe/Lisbon
X-PUBLISHED-TTL:P1W
BEGIN:VTIMEZONE
TZID:Europe/Lisbon
X-LIC-LOCATION:Europe/Lisbon
END:VTIMEZONE
BEGIN:VEVENT
UID:69e86a3041e3b
DTSTART;VALUE=DATE:20250322
SEQUENCE:0
TRANSP:OPAQUE
DTEND;VALUE=DATE:20250323
SUMMARY:10º Aniversário Amigos & Motores
CLASS:PUBLIC
DESCRIPTION:Associativismo&nbsp\;10º Aniversário Amigos &amp\; Motores
X-MICROSOFT-CDO-ALLDAYEVENT:TRUE
DTSTAMP:20260422T062656Z
END:VEVENT
END:VCALENDAR