BEGIN:VCALENDAR
VERSION:2.0
PRODID:SUNSET MOINHO DO SOBRAL
X-WR-CALNAME:SUNSET MOINHO DO SOBRAL
X-WR-TIMEZONE:Europe/Lisbon
X-PUBLISHED-TTL:P1W
BEGIN:VTIMEZONE
TZID:Europe/Lisbon
X-LIC-LOCATION:Europe/Lisbon
END:VTIMEZONE
BEGIN:VEVENT
UID:69e86a14b6980
DTSTART;VALUE=DATE:20230722
SEQUENCE:0
TRANSP:OPAQUE
DTEND;VALUE=DATE:20230723
SUMMARY:SUNSET MOINHO DO SOBRAL
CLASS:PUBLIC
DESCRIPTION:No Próximo dia 22 de Julho voltamos ao local com o Pôr do Sol
 &nbsp\; mais bonito da nossa Freguesia\, com boa música\, boa companhia\,
  a melhor vista para partilhar amizade\, sorrisos e boa disposição......
 .Aparece!o Tuk Tuk também está de volta para vos levar ate lá!Contamos 
 com a presença de todos!!!&nbsp\;
X-MICROSOFT-CDO-ALLDAYEVENT:TRUE
DTSTAMP:20260422T062628Z
END:VEVENT
END:VCALENDAR