BEGIN:VCALENDAR
VERSION:2.0
PRODID:23 de Abril de 2016 - Grande Prémio de Atletismo “Troféu José M
 anuel Gil Alves”
X-WR-CALNAME:23 de Abril de 2016 - Grande Prémio de Atletismo “Troféu J
 osé Manuel Gil Alves”
X-WR-TIMEZONE:Europe/Lisbon
X-PUBLISHED-TTL:P1W
BEGIN:VTIMEZONE
TZID:Europe/Lisbon
X-LIC-LOCATION:Europe/Lisbon
END:VTIMEZONE
BEGIN:VEVENT
UID:69e86951721da
DTSTART;VALUE=DATE:20160423
SEQUENCE:0
TRANSP:OPAQUE
DTEND;VALUE=DATE:20160424
SUMMARY:23 de Abril de 2016 - Grande Prémio de Atletismo “Troféu José 
 Manuel Gil Alves”
CLASS:PUBLIC
DESCRIPTION:O Grande Prémio Atletismo “Sobral a Correr – Troféu José
  Manuel Gil Alves” é organizada pela Junta de Freguesia do Sobral de Mo
 nte Agraço\, tendo o apoio da CM de Sobral de Monte Agraço com o apoio t
 écnico da MKV organizações desportivas.Resultado JuvenilPrograma-horár
 ioHoraDistânciaEscalãoSexoAno / NascNº Voltas16:00h250mBenjamins/AM / F
 2007/ 2008½ volta pequena16:05h500mBenjamins/BM / F2005/ 20061 pequena16:
 10h1.000mInfantisM / F2003 / 20042 pequenas16:20h1.500mIniciadosM / F2001 
 / 20023 pequenas16:30h2.400mJuvenisM / F1999 / 20003 grandes16:50h7.500mJ
 únioresM / F1997 / 19982 grandes+Percurso longoSénioresM / FAté 1996Vet
 eranos 35M / F35 / 39 anosVeteranos 40M / F40 / 44 anosVeteranos 45FA part
 ir de 45 anosVeteranos 45M45 / 49 anosVeteranos 50M50 / 54 anosVeteranos 5
 5M55 / 59 anosVeteranos 60MA partir de 60 anosPercurso- A Prova Juvenil 
 desenrola-se em sistema de circuito\, nas ruas da Vila de Sobral Monte Agr
 aço\, com um perímetro de 500m (volta pequena) e 800m (volta grande)\;- 
 A Prova de Honra\, para além do circuito na partida e na chegada\, aind
 a percorre a EN.115 no percurso – Sobral – Seramena – Sobral.INSCRI
 ÇÃO- As inscrições SÃO GRATUITAS e têm de ser efetuadas até quinta-
 feira\, dia 21 de Abril de 2016\, nos seguintes contactos: jmbf52@hotmail
 .com\, jose_mkventos@aeiou.ptou na Junta de Freguesia de Sobral Monte Ag
 raço.E-mail: jfsobral@net.vodafone.pt Tlf.: 261942699DORSAIS- A distrib
 uição de Dorsais terá lugar no secretariado instalado na zona da meta\,
  na Praceta 25 de Abril\, local da Meta\, a partir das 13h30 e até meia h
 ora antes de cada partida.CLASSIFICAÇÃOa) Classificação individual -
  em cada escalão etário / sexo.b) Classificação Colectiva “Juvenil
 ” – é obtida pela soma dos pontos dos 10 primeiros atletas em todos 
 os escalões\, de Benjamins M/F a Juvenis M/F.O 1º classificado terá 10 
 pontos\, o 2º\, 9 pontos\,… 10º\, 1 ponto. Vence a equipa que obtiver 
 maior nº de pontos no conjunto dos escalões.c) Classificação Colectiv
 a “Prova de Honra” – é obtida pela soma dos pontos dos 4 primeiros
  atletas de cada equipa\, independentemente de género.O 1º classificado 
 terá 1 ponto\, o 2º\, 2 pontos\, e assim sucessivamente até fechar a eq
 uipa com o total dos 4 atletas.PRÉMIOSa) Individuais: Serão atribuída
 s medalhões aos 3 primeiros classificados de cada escalão de ambos os se
 xos e medalhas até ao 10º clssificados.b) Colectivos: Serão atribuíd
 as taças às seguintes equipas:5 primeiras equipas da prova “Juvenil
 ”5 primeiras equipas da “Prova de Honra”DISPOSIÇÕES FINAISOs cas
 os omissos serão resolvidos pela Organização\, com base no Regulamento 
 de provas de estrada.
X-MICROSOFT-CDO-ALLDAYEVENT:TRUE
DTSTAMP:20260422T062313Z
END:VEVENT
END:VCALENDAR