BEGIN:VCALENDAR
VERSION:2.0
PRODID:Passeio Senior
X-WR-CALNAME:Passeio Senior
X-WR-TIMEZONE:Europe/Lisbon
X-PUBLISHED-TTL:P1W
BEGIN:VTIMEZONE
TZID:Europe/Lisbon
X-LIC-LOCATION:Europe/Lisbon
END:VTIMEZONE
BEGIN:VEVENT
UID:69e86951914cc
DTSTART;VALUE=DATE:20150523
SEQUENCE:0
TRANSP:OPAQUE
DTEND;VALUE=DATE:20150524
SUMMARY:Passeio Senior
CLASS:PUBLIC
DESCRIPTION:Passeio Senior
X-MICROSOFT-CDO-ALLDAYEVENT:TRUE
DTSTAMP:20260422T062313Z
END:VEVENT
END:VCALENDAR