BEGIN:VCALENDAR
VERSION:2.0
PRODID:Arraial Popular - 2018
X-WR-CALNAME:Arraial Popular - 2018
X-WR-TIMEZONE:Europe/Lisbon
X-PUBLISHED-TTL:P1W
BEGIN:VTIMEZONE
TZID:Europe/Lisbon
X-LIC-LOCATION:Europe/Lisbon
END:VTIMEZONE
BEGIN:VEVENT
UID:69e8686e162a1
DTSTART;VALUE=DATE:20180623
SEQUENCE:0
TRANSP:OPAQUE
DTEND;VALUE=DATE:20180624
SUMMARY:Arraial Popular - 2018
CLASS:PUBLIC
DESCRIPTION:Galeria de fotos
X-MICROSOFT-CDO-ALLDAYEVENT:TRUE
DTSTAMP:20260422T061926Z
END:VEVENT
END:VCALENDAR