BEGIN:VCALENDAR
VERSION:2.0
PRODID:SUNSET MOINHO DO SOBRAL
X-WR-CALNAME:SUNSET MOINHO DO SOBRAL
X-WR-TIMEZONE:Europe/Lisbon
X-PUBLISHED-TTL:P1W
BEGIN:VTIMEZONE
TZID:Europe/Lisbon
X-LIC-LOCATION:Europe/Lisbon
END:VTIMEZONE
BEGIN:VEVENT
UID:69e869acb60ce
DTSTART;VALUE=DATE:20220723
SEQUENCE:0
TRANSP:OPAQUE
DTEND;VALUE=DATE:20220724
SUMMARY:SUNSET MOINHO DO SOBRAL
CLASS:PUBLIC
DESCRIPTION:SUNSET MOINHO DO SOBRAL&nbsp\;Contamos com a presença de todos
  em mais um evento onde procuramos dinamizar e promover a nossa freguesia\
 , com boa música\, boa companhia numa das melhores vistas do Sobral.
X-MICROSOFT-CDO-ALLDAYEVENT:TRUE
DTSTAMP:20260422T062444Z
END:VEVENT
END:VCALENDAR