BEGIN:VCALENDAR
VERSION:2.0
PRODID:Aulas de Teatro e Dança
X-WR-CALNAME:Aulas de Teatro e Dança
X-WR-TIMEZONE:Europe/Lisbon
X-PUBLISHED-TTL:P1W
BEGIN:VTIMEZONE
TZID:Europe/Lisbon
X-LIC-LOCATION:Europe/Lisbon
END:VTIMEZONE
BEGIN:VEVENT
UID:69e8684f64275
DTSTART;VALUE=DATE:20160425
SEQUENCE:0
TRANSP:OPAQUE
DTEND;VALUE=DATE:20160426
SUMMARY:Aulas de Teatro e Dança
CLASS:PUBLIC
DESCRIPTION:Comemorações do 25 de abril: Participação do grupo de teatr
 o e dança T-Danos da Freguesia de Sobral com a dança: Vermelho de Espera
 nça
X-MICROSOFT-CDO-ALLDAYEVENT:TRUE
DTSTAMP:20260422T061855Z
END:VEVENT
END:VCALENDAR