BEGIN:VCALENDAR
VERSION:2.0
PRODID:Feira Rural
X-WR-CALNAME:Feira Rural
X-WR-TIMEZONE:Europe/Lisbon
X-PUBLISHED-TTL:P1W
BEGIN:VTIMEZONE
TZID:Europe/Lisbon
X-LIC-LOCATION:Europe/Lisbon
END:VTIMEZONE
BEGIN:VEVENT
UID:69e8686d127c2
DTSTART;VALUE=DATE:20251025
SEQUENCE:0
TRANSP:OPAQUE
DTEND;VALUE=DATE:20251026
SUMMARY:Feira Rural
CLASS:PUBLIC
DESCRIPTION:És Artesão?És produtor rural?Tens a tua própria produção 
 agrícola ou artesanal e não tens espaço físico?Garante a tua banca e p
 articipa na primeira feira rural organizada pela Junta de Freguesia de Sob
 ral de Monte Agraço e expõe os teus produtos.
X-MICROSOFT-CDO-ALLDAYEVENT:TRUE
DTSTAMP:20260422T061925Z
END:VEVENT
END:VCALENDAR