BEGIN:VCALENDAR
VERSION:2.0
PRODID:Prova de Atletismo \"Sobral a Correr - Troféu José Manuel Gil Alve
 s\"
X-WR-CALNAME:Prova de Atletismo \"Sobral a Correr - Troféu José Manuel Gi
 l Alves\"
X-WR-TIMEZONE:Europe/Lisbon
X-PUBLISHED-TTL:P1W
BEGIN:VTIMEZONE
TZID:Europe/Lisbon
X-LIC-LOCATION:Europe/Lisbon
END:VTIMEZONE
BEGIN:VEVENT
UID:69e869bd888f1
DTSTART;VALUE=DATE:20250426
SEQUENCE:0
TRANSP:OPAQUE
DTEND;VALUE=DATE:20250427
SUMMARY:Prova de Atletismo \"Sobral a Correr - Troféu José Manuel Gil Alv
 es\"
CLASS:PUBLIC
DESCRIPTION:Grande Prémio de Atletismo&nbsp\;
X-MICROSOFT-CDO-ALLDAYEVENT:TRUE
DTSTAMP:20260422T062501Z
END:VEVENT
END:VCALENDAR