BEGIN:VCALENDAR
VERSION:2.0
PRODID:Grande Prémio de Atletismo \"Sobral a Correr\" Troféu José Manuel
  Gil Alves 
X-WR-CALNAME:Grande Prémio de Atletismo \"Sobral a Correr\" Troféu José 
 Manuel Gil Alves 
X-WR-TIMEZONE:Europe/Lisbon
X-PUBLISHED-TTL:P1W
BEGIN:VTIMEZONE
TZID:Europe/Lisbon
X-LIC-LOCATION:Europe/Lisbon
END:VTIMEZONE
BEGIN:VEVENT
UID:69e8686d49474
DTSTART;VALUE=DATE:20240427
SEQUENCE:0
TRANSP:OPAQUE
DTEND;VALUE=DATE:20240428
SUMMARY:Grande Prémio de Atletismo \"Sobral a Correr\" Troféu José Manue
 l Gil Alves 
CLASS:PUBLIC
DESCRIPTION:Inserido nas comemorações do 50º Aniversário do 25 de Abril
 \, o dia 27 de Abril será dedicado ao Atletismo com a prova \"Sobral a Co
 rrer\" - Troféu José Manuel Gil Alves\, com partida na Praceta 25 de Abr
 il\, pelas 16horas. Este ano com novo percurso. Contamos com todos.... 
X-MICROSOFT-CDO-ALLDAYEVENT:TRUE
DTSTAMP:20260422T061925Z
END:VEVENT
END:VCALENDAR