BEGIN:VCALENDAR
VERSION:2.0
PRODID:Passeio Sénior 
X-WR-CALNAME:Passeio Sénior 
X-WR-TIMEZONE:Europe/Lisbon
X-PUBLISHED-TTL:P1W
BEGIN:VTIMEZONE
TZID:Europe/Lisbon
X-LIC-LOCATION:Europe/Lisbon
END:VTIMEZONE
BEGIN:VEVENT
UID:69e86a31722f3
DTSTART;VALUE=DATE:20220528
SEQUENCE:0
TRANSP:OPAQUE
DTEND;VALUE=DATE:20220529
SUMMARY:Passeio Sénior 
CLASS:PUBLIC
DESCRIPTION:Passeio Sénior 
X-MICROSOFT-CDO-ALLDAYEVENT:TRUE
DTSTAMP:20260422T062657Z
END:VEVENT
END:VCALENDAR