BEGIN:VCALENDAR
VERSION:2.0
PRODID:Sessão de Colheita de Sangue 
X-WR-CALNAME:Sessão de Colheita de Sangue 
X-WR-TIMEZONE:Europe/Lisbon
X-PUBLISHED-TTL:P1W
BEGIN:VTIMEZONE
TZID:Europe/Lisbon
X-LIC-LOCATION:Europe/Lisbon
END:VTIMEZONE
BEGIN:VEVENT
UID:69e86a1515cba
DTSTART;VALUE=DATE:20240728
SEQUENCE:0
TRANSP:OPAQUE
DTEND;VALUE=DATE:20240729
SUMMARY:Sessão de Colheita de Sangue 
CLASS:PUBLIC
DESCRIPTION:Campanha de doação de sangueA Junta de Freguesia de Sobral de
  Monte Agraço\, em parceria com o Instituto Português do Sangue e da Tra
 nsplantação\, IP aliam-se a mais uma campanha de doação de sangue 
X-MICROSOFT-CDO-ALLDAYEVENT:TRUE
DTSTAMP:20260422T062629Z
END:VEVENT
END:VCALENDAR