BEGIN:VCALENDAR
VERSION:2.0
PRODID:Campanha de Doação de Sangue
X-WR-CALNAME:Campanha de Doação de Sangue
X-WR-TIMEZONE:Europe/Lisbon
X-PUBLISHED-TTL:P1W
BEGIN:VTIMEZONE
TZID:Europe/Lisbon
X-LIC-LOCATION:Europe/Lisbon
END:VTIMEZONE
BEGIN:VEVENT
UID:69e869bdcf453
DTSTART;VALUE=DATE:20240330
SEQUENCE:0
TRANSP:OPAQUE
DTEND;VALUE=DATE:20240331
SUMMARY:Campanha de Doação de Sangue
CLASS:PUBLIC
DESCRIPTION:A Junta de Freguesia de Sobral de Monte Agraço em parceria com
  o Instituto Português do Sangue e da Transplantação\, IP e a Associaç
 ão de Dadores de Sangue de Sobral de Monte Agraço aliam-se a mais uma ca
 mpanha de doação de sangue\, cada vez mais importante devido aos constra
 ngimentos existentes nos nossos hospitais por não terem unidades de sangu
 e disponíveis para administrar aos doentes. Contamos com todos. 
X-MICROSOFT-CDO-ALLDAYEVENT:TRUE
DTSTAMP:20260422T062501Z
END:VEVENT
END:VCALENDAR