BEGIN:VCALENDAR
VERSION:2.0
PRODID:Colheita de Sangue
X-WR-CALNAME:Colheita de Sangue
X-WR-TIMEZONE:Europe/Lisbon
X-PUBLISHED-TTL:P1W
BEGIN:VTIMEZONE
TZID:Europe/Lisbon
X-LIC-LOCATION:Europe/Lisbon
END:VTIMEZONE
BEGIN:VEVENT
UID:69e86a1455669
DTSTART;VALUE=DATE:20250330
SEQUENCE:0
TRANSP:OPAQUE
DTEND;VALUE=DATE:20250331
SUMMARY:Colheita de Sangue
CLASS:PUBLIC
DESCRIPTION:Sessão de Colheita de Sangue&nbsp\;Pavilhão da Associação H
 umanitária de Bombeiros Voluntários de Sobral de Monte Agraço
X-MICROSOFT-CDO-ALLDAYEVENT:TRUE
DTSTAMP:20260422T062628Z
END:VEVENT
END:VCALENDAR