BEGIN:VCALENDAR
VERSION:2.0
PRODID:ASSOCIATIVISMO - Bombeiros Voluntários Sobral de Monte Agraço
X-WR-CALNAME:ASSOCIATIVISMO - Bombeiros Voluntários Sobral de Monte Agraç
 o
X-WR-TIMEZONE:Europe/Lisbon
X-PUBLISHED-TTL:P1W
BEGIN:VTIMEZONE
TZID:Europe/Lisbon
X-LIC-LOCATION:Europe/Lisbon
END:VTIMEZONE
BEGIN:VEVENT
UID:69e869acb82fe
DTSTART;VALUE=DATE:20250131
SEQUENCE:0
TRANSP:OPAQUE
DTEND;VALUE=DATE:20250201
SUMMARY:ASSOCIATIVISMO - Bombeiros Voluntários Sobral de Monte Agraço
CLASS:PUBLIC
DESCRIPTION:Dia 31 janeiro não percas Dj Padre Guilherme no Pavilhão Ant
 ónio Lopes Bogalho\, organizado pelos Bombeiros Voluntários!!
X-MICROSOFT-CDO-ALLDAYEVENT:TRUE
DTSTAMP:20260422T062444Z
END:VEVENT
END:VCALENDAR