BEGIN:VCALENDAR
VERSION:2.0
PRODID:ASSOCIATIVISMO - Associação Amigos da Gozundeira 
X-WR-CALNAME:ASSOCIATIVISMO - Associação Amigos da Gozundeira 
X-WR-TIMEZONE:Europe/Lisbon
X-PUBLISHED-TTL:P1W
BEGIN:VTIMEZONE
TZID:Europe/Lisbon
X-LIC-LOCATION:Europe/Lisbon
END:VTIMEZONE
BEGIN:VEVENT
UID:69e86a1454fec
DTSTART;VALUE=DATE:20250131
SEQUENCE:0
TRANSP:OPAQUE
DTEND;VALUE=DATE:20250201
SUMMARY:ASSOCIATIVISMO - Associação Amigos da Gozundeira 
CLASS:PUBLIC
DESCRIPTION:Tradições Leilões na Gozundeira de  31 de janeiro a 3 de fev
 ereiro...muita animação e bom convívio!! 
X-MICROSOFT-CDO-ALLDAYEVENT:TRUE
DTSTAMP:20260422T062628Z
END:VEVENT
END:VCALENDAR